BEGIN:VCALENDAR
VERSION:2.0
PRODID:-//wp-events-plugin.com//7.2.3.1//EN
TZID:Europe/Berlin
X-WR-TIMEZONE:Europe/Berlin
BEGIN:VEVENT
UID:48@sv-breitling.de
DTSTART;TZID=Europe/Berlin:20241012T090000
DTEND;TZID=Europe/Berlin:20241012T140000
DTSTAMP:20240923T190731Z
URL:https://sv-breitling.de/veranstaltungen/saisonabschluss-am-verein/
SUMMARY:Saisonabschluss am Verein
DESCRIPTION:Noch ist nicht daran zu denken\, aber wenn die Tage wieder kür
 zer werden\, ist es Zeit die Sommersaison zünftig zu beenden. Auch dies w
 ollen wir gern mit allen Vereinsmitgliedern gemeinsam zelebrieren. Als mer
 kt euch den Termin vor.
LOCATION:SV Breitling e.V.\, Schmarl Dorf 15d\, Rostock\, Mecklenburg Vorpo
 mmern\, 18106\, Deutschland
GEO:54.13695;12.087909999999965
X-APPLE-STRUCTURED-LOCATION;VALUE=URI;X-ADDRESS=Schmarl Dorf 15d\, Rostock\
 , Mecklenburg Vorpommern\, 18106\, Deutschland;X-APPLE-RADIUS=100;X-TITLE=
 SV Breitling e.V.:geo:54.13695,12.087909999999965
END:VEVENT
BEGIN:VTIMEZONE
TZID:Europe/Berlin
X-LIC-LOCATION:Europe/Berlin
BEGIN:DAYLIGHT
DTSTART:20240331T030000
TZOFFSETFROM:+0100
TZOFFSETTO:+0200
TZNAME:CEST
END:DAYLIGHT
END:VTIMEZONE
END:VCALENDAR